BEGIN:VCALENDAR
VERSION:2.0
PRODID:-//casaofventuracounty.org//NONSGML kigkonsult.se iCalcreator 2.30.1
 0//
CALSCALE:GREGORIAN
METHOD:PUBLISH
UID:360b837b-0902-49a4-a07c-358b24c9c34d
X-WR-CALDESC:Presented by Greater Richmond SCAN Community Programs\nPlay is
  the language of children and as parents we can increase our connection wi
 th children by joining them in it. Children of all ages experience greater
  confidence\, fewer behavioral issues\, and improved mental health when ca
 regivers use the power of play in their daily interactions with them. Lear
 n more about the importance of play and how to incorporate it in your inte
 ractions with children in this workshop.\nCE Hours: 1
X-WR-RELCALID:4f811ab0b4b8752b4d04e2198ec8d629
X-WR-TIMEZONE:America/Los_Angeles
BEGIN:VTIMEZONE
TZID:America/Los_Angeles
BEGIN:STANDARD
TZNAME:PST
DTSTART:20231105T020000
TZOFFSETFROM:-0700
TZOFFSETTO:-0800
RDATE:20241103T020000
RDATE:20251102T020000
END:STANDARD
BEGIN:DAYLIGHT
TZNAME:PDT
DTSTART:20240310T020000
TZOFFSETFROM:-0800
TZOFFSETTO:-0700
RDATE:20250309T020000
END:DAYLIGHT
END:VTIMEZONE
BEGIN:VEVENT
UID:5bdfe647-7948-4a1c-83a8-57aeefd73c07
DTSTAMP:20260421T155144Z
DESCRIPTION:Presented by Greater Richmond SCAN Community Programs\nPlay is 
 the language of children and as parents we can increase our connection wit
 h children by joining them in it. Children of all ages experience greater 
 confidence\, fewer behavioral issues\, and improved mental health when car
 egivers use the power of play in their daily interactions with them. Learn
  more about the importance of play and how to incorporate it in your inter
 actions with children in this workshop.\nCE Hours: 1
DTSTART;TZID=America/Los_Angeles:20240730T090000
DTEND;TZID=America/Los_Angeles:20240730T100000
LOCATION:https://us02web.zoom.us/meeting/register/tZMvde6przoqH9LnYgYXNpxRz
 xuDijpsLRmI?mc_cid=09799c4aef&mc_eid=1834039971#/registration
SUMMARY:The Power of Play in Parenting
END:VEVENT
END:VCALENDAR
