BEGIN:VCALENDAR
VERSION:2.0
PRODID:-//casaofventuracounty.org//NONSGML kigkonsult.se iCalcreator 2.30.1
 0//
CALSCALE:GREGORIAN
METHOD:PUBLISH
UID:d7ceaf74-f744-46d1-b87b-79779e3a52a5
X-WR-CALDESC:Presented by: John Burton Advocates for Youth\nPlease join Joh
 n Burton Advocates for Youth (JBAY)  for this “how-to” webinar to assist a
 dult supporters working with California’s foster youth and unaccompanied h
 omeless youth to successfully complete the Free Application for Federal St
 udent Aid (FAFSA) or California Dream Act Application (CADAA). The webinar
  will review the FAFSA and CADAA\, page by page\, including detailed instr
 uctions on how eligible students can qualify as independent students for t
 he purposes of maximizing financial aid. Presenters will also provide info
 rmation on key steps to take after the FAFSA or CADAA is completed\, such 
 as creating a WebGrants account.\n\nCE Hours: 1.5
X-WR-RELCALID:eed247f88c8c89626315ff2886a6637b
X-WR-TIMEZONE:America/Los_Angeles
BEGIN:VTIMEZONE
TZID:America/Los_Angeles
BEGIN:STANDARD
TZNAME:PST
DTSTART:20241103T020000
TZOFFSETFROM:-0700
TZOFFSETTO:-0800
RDATE:20251102T020000
END:STANDARD
BEGIN:DAYLIGHT
TZNAME:PDT
DTSTART:20240310T020000
TZOFFSETFROM:-0800
TZOFFSETTO:-0700
RDATE:20250309T020000
RDATE:20260308T020000
END:DAYLIGHT
END:VTIMEZONE
BEGIN:VEVENT
UID:157fb8ea-fd00-4ea5-8c31-f51790d09073
DTSTAMP:20260420T003032Z
DESCRIPTION:Presented by: John Burton Advocates for Youth\nPlease join John
  Burton Advocates for Youth (JBAY)  for this “how-to” webinar to assist ad
 ult supporters working with California’s foster youth and unaccompanied ho
 meless youth to successfully complete the Free Application for Federal Stu
 dent Aid (FAFSA) or California Dream Act Application (CADAA). The webinar 
 will review the FAFSA and CADAA\, page by page\, including detailed instru
 ctions on how eligible students can qualify as independent students for th
 e purposes of maximizing financial aid. Presenters will also provide infor
 mation on key steps to take after the FAFSA or CADAA is completed\, such a
 s creating a WebGrants account.\n\nCE Hours: 1.5
DTSTART;TZID=America/Los_Angeles:20241120T100000
DTEND;TZID=America/Los_Angeles:20241120T113000
LOCATION:https://jbay.org/events/fafsa-cadaa-adult-webinar-2024/
SUMMARY:Completing the FAFSA/CADAA: A How-To for Adult Supporters of Youth 
 with Experience with Foster Care of Homelessness
END:VEVENT
END:VCALENDAR
